BEGIN:VCALENDAR
VERSION:2.0
PRODID:-//SpeedwayA-Z.cz - ECPv4.6.1//NONSGML v1.0//EN
CALSCALE:GREGORIAN
METHOD:PUBLISH
X-WR-CALNAME:SpeedwayA-Z.cz
X-ORIGINAL-URL:https://www.speedwaya-z.cz
X-WR-CALDESC:Events for SpeedwayA-Z.cz
BEGIN:VEVENT
DTSTART;TZID=Europe/Prague:20150918T170000
DTEND;TZID=Europe/Prague:20150918T000000
DTSTAMP:20260425T230254
CREATED:20150329T193654Z
LAST-MODIFIED:20150329T193654Z
UID:8884-1442595600-1442534400@www.speedwaya-z.cz
SUMMARY:Zlatá stuha + Jawa Cup 250 ccm - Pardubice
DESCRIPTION:
URL:https://www.speedwaya-z.cz/?tribe_events=zlata-stuha-jawa-cup-250-ccm-pardubice
END:VEVENT
END:VCALENDAR