BEGIN:VCALENDAR
VERSION:2.0
PRODID:-//SpeedwayA-Z.cz - ECPv4.6.1//NONSGML v1.0//EN
CALSCALE:GREGORIAN
METHOD:PUBLISH
X-WR-CALNAME:SpeedwayA-Z.cz
X-ORIGINAL-URL:https://www.speedwaya-z.cz
X-WR-CALDESC:Events for SpeedwayA-Z.cz
BEGIN:VEVENT
DTSTART;TZID=Europe/Prague:20150830T133000
DTEND;TZID=Europe/Prague:20150830T133000
DTSTAMP:20260425T200040
CREATED:20150329T193728Z
LAST-MODIFIED:20150824T191125Z
UID:8915-1440941400-1440941400@www.speedwaya-z.cz
SUMMARY:Zlatá přilba SNP - Žarnovica (SK)
DESCRIPTION: \n
URL:https://www.speedwaya-z.cz/?tribe_events=zlata-prilba-snp-zarnovica-sk
ATTACH;FMTTYPE=image/jpeg:https://www.speedwaya-z.cz/wp-content/uploads/2015/03/ZPSNP2015.jpg
END:VEVENT
END:VCALENDAR