BEGIN:VCALENDAR
VERSION:2.0
PRODID:-//SpeedwayA-Z.cz - ECPv4.6.1//NONSGML v1.0//EN
CALSCALE:GREGORIAN
METHOD:PUBLISH
X-WR-CALNAME:SpeedwayA-Z.cz
X-ORIGINAL-URL:https://www.speedwaya-z.cz
X-WR-CALDESC:Events for SpeedwayA-Z.cz
BEGIN:VEVENT
DTSTART;TZID=Europe/Prague:20170826T140000
DTEND;TZID=Europe/Prague:20170826T140000
DTSTAMP:20260423T065340
CREATED:20170320T094436Z
LAST-MODIFIED:20170720T165946Z
UID:22078-1503756000-1503756000@www.speedwaya-z.cz
SUMMARY:Veteránkemp - Svitavy
DESCRIPTION:
URL:https://www.speedwaya-z.cz/?tribe_events=veterankemp-svitavy-2
LOCATION:Hálkova 7\, Svitavy\, 568 02
ORGANIZER;CN="AMK%20Svitavy%20v%20A%C4%8CR":MAILTO:richardberger(at)seznam.cz
END:VEVENT
END:VCALENDAR