BEGIN:VCALENDAR
VERSION:2.0
PRODID:-//SpeedwayA-Z.cz - ECPv4.6.1//NONSGML v1.0//EN
CALSCALE:GREGORIAN
METHOD:PUBLISH
X-WR-CALNAME:SpeedwayA-Z.cz
X-ORIGINAL-URL:https://www.speedwaya-z.cz
X-WR-CALDESC:Events for SpeedwayA-Z.cz
BEGIN:VEVENT
DTSTART;TZID=Europe/Prague:20190406T150000
DTEND;TZID=Europe/Prague:20190406T150000
DTSTAMP:20260423T102909
CREATED:20190305T082146Z
LAST-MODIFIED:20190308T053856Z
UID:35645-1554562800-1554562800@www.speedwaya-z.cz
SUMMARY:Velká cena UNITOP - Praha
DESCRIPTION:
URL:https://www.speedwaya-z.cz/?tribe_events=velka-cena-unitop-praha
END:VEVENT
END:VCALENDAR