BEGIN:VCALENDAR
VERSION:2.0
PRODID:-//SpeedwayA-Z.cz - ECPv4.6.1//NONSGML v1.0//EN
CALSCALE:GREGORIAN
METHOD:PUBLISH
X-WR-CALNAME:SpeedwayA-Z.cz
X-ORIGINAL-URL:https://www.speedwaya-z.cz
X-WR-CALDESC:Events for SpeedwayA-Z.cz
BEGIN:VEVENT
DTSTART;TZID=Europe/Prague:20190630T100000
DTEND;TZID=Europe/Prague:20190630T100000
DTSTAMP:20260425T105848
CREATED:20190310T143920Z
LAST-MODIFIED:20190626T160541Z
UID:35770-1561888800-1561888800@www.speedwaya-z.cz
SUMMARY:Srandamač - Kostěnice (nový termín místo 23.6.)
DESCRIPTION:
URL:https://www.speedwaya-z.cz/?tribe_events=srandamac-kostenice-2
END:VEVENT
END:VCALENDAR