BEGIN:VCALENDAR
VERSION:2.0
PRODID:-//SpeedwayA-Z.cz - ECPv4.6.1//NONSGML v1.0//EN
CALSCALE:GREGORIAN
METHOD:PUBLISH
X-WR-CALNAME:SpeedwayA-Z.cz
X-ORIGINAL-URL:https://www.speedwaya-z.cz
X-WR-CALDESC:Events for SpeedwayA-Z.cz
BEGIN:VEVENT
DTSTART;TZID=Europe/Prague:20161022T100000
DTEND;TZID=Europe/Prague:20161022T100000
DTSTAMP:20260423T163539
CREATED:20160324T092515Z
LAST-MODIFIED:20161010T155644Z
UID:15265-1477130400-1477130400@www.speedwaya-z.cz
SUMMARY:Speedway Mini Cup - Praha (NEJEDE SE)
DESCRIPTION:
URL:https://www.speedwaya-z.cz/?tribe_events=speedway-mini-cup-praha-7
END:VEVENT
END:VCALENDAR