BEGIN:VCALENDAR
VERSION:2.0
PRODID:-//SpeedwayA-Z.cz - ECPv4.6.1//NONSGML v1.0//EN
CALSCALE:GREGORIAN
METHOD:PUBLISH
X-WR-CALNAME:SpeedwayA-Z.cz
X-ORIGINAL-URL:https://www.speedwaya-z.cz
X-WR-CALDESC:Events for SpeedwayA-Z.cz
BEGIN:VEVENT
DTSTART;TZID=Europe/Prague:20161106T100000
DTEND;TZID=Europe/Prague:20161106T100000
DTSTAMP:20260423T104148
CREATED:20161103T150344Z
LAST-MODIFIED:20161105T174850Z
UID:19970-1478426400-1478426400@www.speedwaya-z.cz
SUMMARY:Speedway Mini Cup - Divišov
DESCRIPTION:
URL:https://www.speedwaya-z.cz/?tribe_events=speedway-mini-cup-divisov-bude-potvrzeno-v-sobotu-vecer
END:VEVENT
END:VCALENDAR