BEGIN:VCALENDAR
VERSION:2.0
PRODID:-//SpeedwayA-Z.cz - ECPv4.6.1//NONSGML v1.0//EN
CALSCALE:GREGORIAN
METHOD:PUBLISH
X-WR-CALNAME:SpeedwayA-Z.cz
X-ORIGINAL-URL:https://www.speedwaya-z.cz
X-WR-CALDESC:Events for SpeedwayA-Z.cz
BEGIN:VEVENT
DTSTART;TZID=Europe/Prague:20160417T100000
DTEND;TZID=Europe/Prague:20160417T100000
DTSTAMP:20260423T183354
CREATED:20160324T092718Z
LAST-MODIFIED:20160324T092718Z
UID:15267-1460887200-1460887200@www.speedwaya-z.cz
SUMMARY:Speedway Mini Cup - Divišov
DESCRIPTION:
URL:https://www.speedwaya-z.cz/?tribe_events=speedway-mini-cup-divisov-3
END:VEVENT
END:VCALENDAR