BEGIN:VCALENDAR
VERSION:2.0
PRODID:-//SpeedwayA-Z.cz - ECPv4.6.1//NONSGML v1.0//EN
CALSCALE:GREGORIAN
METHOD:PUBLISH
X-WR-CALNAME:SpeedwayA-Z.cz
X-ORIGINAL-URL:https://www.speedwaya-z.cz
X-WR-CALDESC:Events for SpeedwayA-Z.cz
BEGIN:VEVENT
DTSTART;TZID=Europe/Prague:20150503T150000
DTEND;TZID=Europe/Prague:20150503T000000
DTSTAMP:20260425T172243
CREATED:20150329T193541Z
LAST-MODIFIED:20150329T193541Z
UID:8916-1430665200-1430611200@www.speedwaya-z.cz
SUMMARY:Slovensko vs. Česká republika - Žarnovica (SK)
DESCRIPTION:
URL:https://www.speedwaya-z.cz/?tribe_events=slovensko-vs-ceska-republika-zarnovica-sk
END:VEVENT
END:VCALENDAR