BEGIN:VCALENDAR
VERSION:2.0
PRODID:-//SpeedwayA-Z.cz - ECPv4.6.1//NONSGML v1.0//EN
CALSCALE:GREGORIAN
METHOD:PUBLISH
X-WR-CALNAME:SpeedwayA-Z.cz
X-ORIGINAL-URL:https://www.speedwaya-z.cz
X-WR-CALDESC:Events for SpeedwayA-Z.cz
BEGIN:VEVENT
DTSTART;TZID=Europe/Prague:20171001T110000
DTEND;TZID=Europe/Prague:20171001T110000
DTSTAMP:20260423T001120
CREATED:20170927T072502Z
LAST-MODIFIED:20170927T072502Z
UID:26317-1506855600-1506855600@www.speedwaya-z.cz
SUMMARY:slavnostní převoz zlaté přilby - Třída Míru Pardubice
DESCRIPTION:
URL:https://www.speedwaya-z.cz/?tribe_events=slavnostni-prevoz-zlate-prilby-trida-miru-pardubice
END:VEVENT
END:VCALENDAR