BEGIN:VCALENDAR
VERSION:2.0
PRODID:-//SpeedwayA-Z.cz - ECPv4.6.1//NONSGML v1.0//EN
CALSCALE:GREGORIAN
METHOD:PUBLISH
X-WR-CALNAME:SpeedwayA-Z.cz
X-ORIGINAL-URL:https://www.speedwaya-z.cz
X-WR-CALDESC:Events for SpeedwayA-Z.cz
BEGIN:VEVENT
DTSTART;TZID=Europe/Prague:20180324T090000
DTEND;TZID=Europe/Prague:20180324T090000
DTSTAMP:20260422T111819
CREATED:20180319T194420Z
LAST-MODIFIED:20180319T194420Z
UID:29186-1521882000-1521882000@www.speedwaya-z.cz
SUMMARY:Slaný Speedway Academy - Slaný (!!!ZRUŠENO!!!)
DESCRIPTION:
URL:https://www.speedwaya-z.cz/?tribe_events=slany-speedway-academy-slany-zruseno
END:VEVENT
END:VCALENDAR