BEGIN:VCALENDAR
VERSION:2.0
PRODID:-//SpeedwayA-Z.cz - ECPv4.6.1//NONSGML v1.0//EN
CALSCALE:GREGORIAN
METHOD:PUBLISH
X-WR-CALNAME:SpeedwayA-Z.cz
X-ORIGINAL-URL:https://www.speedwaya-z.cz
X-WR-CALDESC:Events for SpeedwayA-Z.cz
BEGIN:VEVENT
DTSTART;TZID=Europe/Prague:20180330T090000
DTEND;TZID=Europe/Prague:20180330T090000
DTSTAMP:20260422T111532
CREATED:20180319T194445Z
LAST-MODIFIED:20180327T195630Z
UID:29188-1522400400-1522400400@www.speedwaya-z.cz
SUMMARY:Slaný Speedway Academy - Slaný (!!! ZRUŠENO !!!)
DESCRIPTION:
URL:https://www.speedwaya-z.cz/?tribe_events=slany-speedway-academy-slany-9
END:VEVENT
END:VCALENDAR