BEGIN:VCALENDAR
VERSION:2.0
PRODID:-//SpeedwayA-Z.cz - ECPv4.6.1//NONSGML v1.0//EN
CALSCALE:GREGORIAN
METHOD:PUBLISH
X-WR-CALNAME:SpeedwayA-Z.cz
X-ORIGINAL-URL:https://www.speedwaya-z.cz
X-WR-CALDESC:Events for SpeedwayA-Z.cz
BEGIN:VEVENT
DTSTART;TZID=Europe/Prague:20181006T090000
DTEND;TZID=Europe/Prague:20181006T090000
DTSTAMP:20260422T095009
CREATED:20180319T194617Z
LAST-MODIFIED:20180319T194617Z
UID:29196-1538816400-1538816400@www.speedwaya-z.cz
SUMMARY:Slaný Speedway Academy - Slaný
DESCRIPTION:
URL:https://www.speedwaya-z.cz/?tribe_events=slany-speedway-academy-slany-13
END:VEVENT
END:VCALENDAR