BEGIN:VCALENDAR
VERSION:2.0
PRODID:-//SpeedwayA-Z.cz - ECPv4.6.1//NONSGML v1.0//EN
CALSCALE:GREGORIAN
METHOD:PUBLISH
X-WR-CALNAME:SpeedwayA-Z.cz
X-ORIGINAL-URL:https://www.speedwaya-z.cz
X-WR-CALDESC:Events for SpeedwayA-Z.cz
BEGIN:VEVENT
DTSTART;TZID=Europe/Prague:20190504T090000
DTEND;TZID=Europe/Prague:20190504T090000
DTSTAMP:20260422T020957
CREATED:20190308T060146Z
LAST-MODIFIED:20190308T060146Z
UID:35698-1556960400-1556960400@www.speedwaya-z.cz
SUMMARY:Slaný Speedway Academy
DESCRIPTION:
URL:https://www.speedwaya-z.cz/?tribe_events=slany-speedway-academy-2
END:VEVENT
END:VCALENDAR