BEGIN:VCALENDAR
VERSION:2.0
PRODID:-//SpeedwayA-Z.cz - ECPv4.6.1//NONSGML v1.0//EN
CALSCALE:GREGORIAN
METHOD:PUBLISH
X-WR-CALNAME:SpeedwayA-Z.cz
X-ORIGINAL-URL:https://www.speedwaya-z.cz
X-WR-CALDESC:Events for SpeedwayA-Z.cz
BEGIN:VEVENT
DTSTART;TZID=Europe/Prague:20160520T180000
DTEND;TZID=Europe/Prague:20160520T180000
DTSTAMP:20260423T200948
CREATED:20160112T073232Z
LAST-MODIFIED:20160324T103803Z
UID:14165-1463767200-1463767200@www.speedwaya-z.cz
SUMMARY:semifinále MS U21 - Pardubice
DESCRIPTION:
URL:https://www.speedwaya-z.cz/?tribe_events=semifinale-ms-u21-pardubice
LOCATION:Motoristů 300\, Pardubice\, 530 06
ORGANIZER;CN="AMK%20ZP%20Pardubice%20v%20A%C4%8CR":MAILTO:amk.zp(at)wo.cz
END:VEVENT
END:VCALENDAR