BEGIN:VCALENDAR
VERSION:2.0
PRODID:-//SpeedwayA-Z.cz - ECPv4.6.1//NONSGML v1.0//EN
CALSCALE:GREGORIAN
METHOD:PUBLISH
X-WR-CALNAME:SpeedwayA-Z.cz
X-ORIGINAL-URL:https://www.speedwaya-z.cz
X-WR-CALDESC:Events for SpeedwayA-Z.cz
BEGIN:VEVENT
DTSTART;TZID=Europe/Prague:20190419T000000
DTEND;TZID=Europe/Prague:20190419T000000
DTSTAMP:20260421T224806
CREATED:20181212T080555Z
LAST-MODIFIED:20190215T051039Z
UID:34687-1555632000-1555632000@www.speedwaya-z.cz
SUMMARY:semifinále ME dvojic - Pardubice (ZÁVOD ZRUŠEN)
DESCRIPTION:
URL:https://www.speedwaya-z.cz/?tribe_events=semifinale-me-dvojic-pardubice
END:VEVENT
END:VCALENDAR