BEGIN:VCALENDAR
VERSION:2.0
PRODID:-//SpeedwayA-Z.cz - ECPv4.6.1//NONSGML v1.0//EN
CALSCALE:GREGORIAN
METHOD:PUBLISH
X-WR-CALNAME:SpeedwayA-Z.cz
X-ORIGINAL-URL:https://www.speedwaya-z.cz
X-WR-CALDESC:Events for SpeedwayA-Z.cz
BEGIN:VEVENT
DTSTART;TZID=Europe/Prague:20181027T100000
DTEND;TZID=Europe/Prague:20181027T100000
DTSTAMP:20260422T042500
CREATED:20181014T070228Z
LAST-MODIFIED:20181014T070228Z
UID:33939-1540634400-1540634400@www.speedwaya-z.cz
SUMMARY:Rozlučka se sezónou - Kostěnice
DESCRIPTION:
URL:https://www.speedwaya-z.cz/?tribe_events=rozlucka-se-sezonou-kostenice-2
END:VEVENT
END:VCALENDAR