BEGIN:VCALENDAR
VERSION:2.0
PRODID:-//SpeedwayA-Z.cz - ECPv4.6.1//NONSGML v1.0//EN
CALSCALE:GREGORIAN
METHOD:PUBLISH
X-WR-CALNAME:SpeedwayA-Z.cz
X-ORIGINAL-URL:https://www.speedwaya-z.cz
X-WR-CALDESC:Events for SpeedwayA-Z.cz
BEGIN:VEVENT
DTSTART;TZID=Europe/Prague:20180610T000000
DTEND;TZID=Europe/Prague:20180610T000000
DTSTAMP:20260422T110806
CREATED:20180308T101510Z
LAST-MODIFIED:20180530T143732Z
UID:28855-1528588800-1528588800@www.speedwaya-z.cz
SUMMARY:PRO-TEC Speedway Mini Cup - Praha (posunuto až na konec srpna)
DESCRIPTION:
URL:https://www.speedwaya-z.cz/?tribe_events=pro-tec-speedway-mini-cup-praha-3
END:VEVENT
END:VCALENDAR