BEGIN:VCALENDAR
VERSION:2.0
PRODID:-//SpeedwayA-Z.cz - ECPv4.6.1//NONSGML v1.0//EN
CALSCALE:GREGORIAN
METHOD:PUBLISH
X-WR-CALNAME:SpeedwayA-Z.cz
X-ORIGINAL-URL:https://www.speedwaya-z.cz
X-WR-CALDESC:Events for SpeedwayA-Z.cz
BEGIN:VEVENT
DTSTART;TZID=Europe/Prague:20180722T100000
DTEND;TZID=Europe/Prague:20180722T100000
DTSTAMP:20260422T074007
CREATED:20180308T101857Z
LAST-MODIFIED:20180308T101857Z
UID:28867-1532253600-1532253600@www.speedwaya-z.cz
SUMMARY:PRO-TEC Speedway Mini Cup - Divišov
DESCRIPTION:
URL:https://www.speedwaya-z.cz/?tribe_events=pro-tec-speedway-mini-cup-divisov-3
END:VEVENT
END:VCALENDAR