BEGIN:VCALENDAR
VERSION:2.0
PRODID:-//SpeedwayA-Z.cz - ECPv4.6.1//NONSGML v1.0//EN
CALSCALE:GREGORIAN
METHOD:PUBLISH
X-WR-CALNAME:SpeedwayA-Z.cz
X-ORIGINAL-URL:https://www.speedwaya-z.cz
X-WR-CALDESC:Events for SpeedwayA-Z.cz
BEGIN:VEVENT
DTSTART;TZID=Europe/Prague:20170916T100000
DTEND;TZID=Europe/Prague:20170916T100000
DTSTAMP:20260423T064822
CREATED:20170315T203344Z
LAST-MODIFIED:20170904T140830Z
UID:21975-1505556000-1505556000@www.speedwaya-z.cz
SUMMARY:PRO-TEC Speedway Mini Cup 125 ccm - Slaný (NEJEDE SE)
DESCRIPTION:
URL:https://www.speedwaya-z.cz/?tribe_events=pro-tec-speedway-mini-cup-125-ccm-slany-2
LOCATION:Netovická 1509\, Slaný\, 274 01
ORGANIZER;CN="AK%20Slan%C3%BD%20v%20A%C4%8CR":MAILTO:speedway.slany(at)volny.cz
END:VEVENT
END:VCALENDAR