BEGIN:VCALENDAR
VERSION:2.0
PRODID:-//SpeedwayA-Z.cz - ECPv4.6.1//NONSGML v1.0//EN
CALSCALE:GREGORIAN
METHOD:PUBLISH
X-WR-CALNAME:SpeedwayA-Z.cz
X-ORIGINAL-URL:https://www.speedwaya-z.cz
X-WR-CALDESC:Events for SpeedwayA-Z.cz
BEGIN:VEVENT
DTSTART;TZID=Europe/Prague:20170730T100000
DTEND;TZID=Europe/Prague:20170730T100000
DTSTAMP:20260423T051937
CREATED:20170315T202906Z
LAST-MODIFIED:20170730T053559Z
UID:21968-1501408800-1501408800@www.speedwaya-z.cz
SUMMARY:PRO-TEC Speedway Mini Cup 125 ccm - Divišov (!!!ODVOLÁNO!!!)
DESCRIPTION:
URL:https://www.speedwaya-z.cz/?tribe_events=pro-tec-speedway-mini-cup-125-ccm-divisov-3
LOCATION:Benešovská 343\, Divišov\, 257 26
END:VEVENT
END:VCALENDAR