BEGIN:VCALENDAR
VERSION:2.0
PRODID:-//SpeedwayA-Z.cz - ECPv4.6.1//NONSGML v1.0//EN
CALSCALE:GREGORIAN
METHOD:PUBLISH
X-WR-CALNAME:SpeedwayA-Z.cz
X-ORIGINAL-URL:https://www.speedwaya-z.cz
X-WR-CALDESC:Events for SpeedwayA-Z.cz
BEGIN:VEVENT
DTSTART;TZID=Europe/Prague:20160409T150000
DTEND;TZID=Europe/Prague:20160409T150000
DTSTAMP:20260423T201012
CREATED:20160113T233923Z
LAST-MODIFIED:20160319T051613Z
UID:14243-1460214000-1460214000@www.speedwaya-z.cz
SUMMARY:PRAGUE OPEN - Praha
DESCRIPTION:
URL:https://www.speedwaya-z.cz/?tribe_events=prague-open-praha-2
LOCATION:U Vojtěšky 11\, Praha 6\, 162 01
ORGANIZER;CN="Autoklub%20Mark%C3%A9ta%20p%C5%99i%20PSK%20Olymp%20Praha":MAILTO:sekretariat@speedway-prague.cz
END:VEVENT
END:VCALENDAR