BEGIN:VCALENDAR
VERSION:2.0
PRODID:-//SpeedwayA-Z.cz - ECPv4.6.1//NONSGML v1.0//EN
CALSCALE:GREGORIAN
METHOD:PUBLISH
X-WR-CALNAME:SpeedwayA-Z.cz
X-ORIGINAL-URL:https://www.speedwaya-z.cz
X-WR-CALDESC:Events for SpeedwayA-Z.cz
BEGIN:VEVENT
DTSTART;TZID=Europe/Prague:20180916T150000
DTEND;TZID=Europe/Prague:20180916T150000
DTSTAMP:20260422T105811
CREATED:20180319T193252Z
LAST-MODIFIED:20180319T193252Z
UID:29184-1537110000-1537110000@www.speedwaya-z.cz
SUMMARY:Pohár přátelství - Žarnovica
DESCRIPTION:
URL:https://www.speedwaya-z.cz/?tribe_events=pohar-pratelstvi-zarnovica-3
END:VEVENT
END:VCALENDAR