BEGIN:VCALENDAR
VERSION:2.0
PRODID:-//SpeedwayA-Z.cz - ECPv4.6.1//NONSGML v1.0//EN
CALSCALE:GREGORIAN
METHOD:PUBLISH
X-WR-CALNAME:SpeedwayA-Z.cz
X-ORIGINAL-URL:https://www.speedwaya-z.cz
X-WR-CALDESC:Events for SpeedwayA-Z.cz
BEGIN:VEVENT
DTSTART;TZID=Europe/Prague:20170903T140000
DTEND;TZID=Europe/Prague:20170903T140000
DTSTAMP:20260423T033109
CREATED:20170319T221244Z
LAST-MODIFIED:20170903T082108Z
UID:22057-1504447200-1504447200@www.speedwaya-z.cz
SUMMARY:Pohár přátelství - Žarnovica (!!!ODVOLÁNO!!!)
DESCRIPTION:
URL:https://www.speedwaya-z.cz/?tribe_events=pohar-pratelstvi-zarnovica-2
LOCATION:Bystrická 37\, Žarnovica\, 966 81\, Slovensko
ORGANIZER;CN="Speedway%20Club%20%C5%BDarnovica":MAILTO:martin.buri(at)gmail.com
END:VEVENT
END:VCALENDAR