BEGIN:VCALENDAR
VERSION:2.0
PRODID:-//SpeedwayA-Z.cz - ECPv4.6.1//NONSGML v1.0//EN
CALSCALE:GREGORIAN
METHOD:PUBLISH
X-WR-CALNAME:SpeedwayA-Z.cz
X-ORIGINAL-URL:https://www.speedwaya-z.cz
X-WR-CALDESC:Events for SpeedwayA-Z.cz
BEGIN:VEVENT
DTSTART;TZID=Europe/Prague:20160925T150000
DTEND;TZID=Europe/Prague:20160925T150000
DTSTAMP:20260423T181617
CREATED:20160324T102936Z
LAST-MODIFIED:20160324T102936Z
UID:15295-1474815600-1474815600@www.speedwaya-z.cz
SUMMARY:Pohár míru a přátelství - Žarnovica
DESCRIPTION:
URL:https://www.speedwaya-z.cz/?tribe_events=pohar-miru-a-pratelstvi-zarnovica
LOCATION:Bystrická 37\, Žarnovica\, 966 81\, Slovensko
ORGANIZER;CN="Speedway%20Club%20%C5%BDarnovica":MAILTO:martin.buri(at)gmail.com
END:VEVENT
END:VCALENDAR