BEGIN:VCALENDAR
VERSION:2.0
PRODID:-//SpeedwayA-Z.cz - ECPv4.6.1//NONSGML v1.0//EN
CALSCALE:GREGORIAN
METHOD:PUBLISH
X-WR-CALNAME:SpeedwayA-Z.cz
X-ORIGINAL-URL:https://www.speedwaya-z.cz
X-WR-CALDESC:Events for SpeedwayA-Z.cz
BEGIN:VEVENT
DTSTART;TZID=Europe/Prague:20180822T180000
DTEND;TZID=Europe/Prague:20180822T180000
DTSTAMP:20260422T092347
CREATED:20180317T191757Z
LAST-MODIFIED:20180319T170237Z
UID:29053-1534960800-1534960800@www.speedwaya-z.cz
SUMMARY:P ČR - Pardubice
DESCRIPTION:
URL:https://www.speedwaya-z.cz/?tribe_events=p-cr-pardubice-3
LOCATION:Motoristů 300\, Pardubice\, 530 06
END:VEVENT
END:VCALENDAR