BEGIN:VCALENDAR
VERSION:2.0
PRODID:-//SpeedwayA-Z.cz - ECPv4.6.1//NONSGML v1.0//EN
CALSCALE:GREGORIAN
METHOD:PUBLISH
X-WR-CALNAME:SpeedwayA-Z.cz
X-ORIGINAL-URL:https://www.speedwaya-z.cz
X-WR-CALDESC:Events for SpeedwayA-Z.cz
BEGIN:VEVENT
DTSTART;TZID=Europe/Prague:20180811T150000
DTEND;TZID=Europe/Prague:20180811T150000
DTSTAMP:20260422T105339
CREATED:20180317T191715Z
LAST-MODIFIED:20180727T045216Z
UID:29051-1533999600-1533999600@www.speedwaya-z.cz
SUMMARY:P ČR - Kopřivnice
DESCRIPTION:
URL:https://www.speedwaya-z.cz/?tribe_events=p-cr-koprivnice
END:VEVENT
END:VCALENDAR