BEGIN:VCALENDAR
VERSION:2.0
PRODID:-//SpeedwayA-Z.cz - ECPv4.6.1//NONSGML v1.0//EN
CALSCALE:GREGORIAN
METHOD:PUBLISH
X-WR-CALNAME:SpeedwayA-Z.cz
X-ORIGINAL-URL:https://www.speedwaya-z.cz
X-WR-CALDESC:Events for SpeedwayA-Z.cz
BEGIN:VEVENT
DTSTART;TZID=Europe/Prague:20170909T150000
DTEND;TZID=Europe/Prague:20170909T150000
DTSTAMP:20260423T033217
CREATED:20170717T070159Z
LAST-MODIFIED:20170717T070159Z
UID:24665-1504969200-1504969200@www.speedwaya-z.cz
SUMMARY:P ČR jednotlivců - náhradní závod za Mšeno - Plzeň
DESCRIPTION:
URL:https://www.speedwaya-z.cz/?tribe_events=p-cr-jednotlivcu-nahradni-zavod-za-mseno-plzen
LOCATION:Univerzitní ulice č. 15\, Plzeň\, 30101
ORGANIZER;CN="PK%20Plze%C5%88%20v%20A%C4%8CR":MAILTO:k.o(at)centrum.cz
END:VEVENT
END:VCALENDAR