BEGIN:VCALENDAR
VERSION:2.0
PRODID:-//SpeedwayA-Z.cz - ECPv4.6.1//NONSGML v1.0//EN
CALSCALE:GREGORIAN
METHOD:PUBLISH
X-WR-CALNAME:SpeedwayA-Z.cz
X-ORIGINAL-URL:https://www.speedwaya-z.cz
X-WR-CALDESC:Events for SpeedwayA-Z.cz
BEGIN:VEVENT
DTSTART;TZID=Europe/Prague:20170928T140000
DTEND;TZID=Europe/Prague:20170928T140000
DTSTAMP:20260423T033242
CREATED:20170319T172114Z
LAST-MODIFIED:20170319T172114Z
UID:22047-1506607200-1506607200@www.speedwaya-z.cz
SUMMARY:P ČR jednotlivců - 8. závod - Svitavy
DESCRIPTION:
URL:https://www.speedwaya-z.cz/?tribe_events=p-cr-jednotlivcu-8-zavod-svitavy
LOCATION:Hálkova 7\, Svitavy\, 568 02
ORGANIZER;CN="AMK%20Svitavy%20v%20A%C4%8CR":MAILTO:richardberger(at)seznam.cz
END:VEVENT
END:VCALENDAR