BEGIN:VCALENDAR
VERSION:2.0
PRODID:-//SpeedwayA-Z.cz - ECPv4.6.1//NONSGML v1.0//EN
CALSCALE:GREGORIAN
METHOD:PUBLISH
X-WR-CALNAME:SpeedwayA-Z.cz
X-ORIGINAL-URL:https://www.speedwaya-z.cz
X-WR-CALDESC:Events for SpeedwayA-Z.cz
BEGIN:VEVENT
DTSTART;TZID=Europe/Prague:20160830T180000
DTEND;TZID=Europe/Prague:20160830T180000
DTSTAMP:20260423T215448
CREATED:20160113T225121Z
LAST-MODIFIED:20160324T100556Z
UID:14218-1472580000-1472580000@www.speedwaya-z.cz
SUMMARY:P ČR jednotlivců - 7. závod - Praha
DESCRIPTION:
URL:https://www.speedwaya-z.cz/?tribe_events=p-cr-jednotlivcu-7-zavod-praha
LOCATION:U Vojtěšky 11\, Praha 6\, 162 01
ORGANIZER;CN="Autoklub%20Mark%C3%A9ta%20p%C5%99i%20PSK%20Olymp%20Praha":MAILTO:sekretariat@speedway-prague.cz
END:VEVENT
END:VCALENDAR