BEGIN:VCALENDAR
VERSION:2.0
PRODID:-//SpeedwayA-Z.cz - ECPv4.6.1//NONSGML v1.0//EN
CALSCALE:GREGORIAN
METHOD:PUBLISH
X-WR-CALNAME:SpeedwayA-Z.cz
X-ORIGINAL-URL:https://www.speedwaya-z.cz
X-WR-CALDESC:Events for SpeedwayA-Z.cz
BEGIN:VEVENT
DTSTART;TZID=Europe/Prague:20170708T150000
DTEND;TZID=Europe/Prague:20170708T150000
DTSTAMP:20260423T030913
CREATED:20170316T145753Z
LAST-MODIFIED:20170316T145753Z
UID:21993-1499526000-1499526000@www.speedwaya-z.cz
SUMMARY:P ČR jednotlivců - 5. závod - Plzeň
DESCRIPTION:
URL:https://www.speedwaya-z.cz/?tribe_events=p-cr-jednotlivcu-5-zavod-plzen
END:VEVENT
END:VCALENDAR