BEGIN:VCALENDAR
VERSION:2.0
PRODID:-//SpeedwayA-Z.cz - ECPv4.6.1//NONSGML v1.0//EN
CALSCALE:GREGORIAN
METHOD:PUBLISH
X-WR-CALNAME:SpeedwayA-Z.cz
X-ORIGINAL-URL:https://www.speedwaya-z.cz
X-WR-CALDESC:Events for SpeedwayA-Z.cz
BEGIN:VEVENT
DTSTART;TZID=Europe/Prague:20170611T140000
DTEND;TZID=Europe/Prague:20170611T140000
DTSTAMP:20260423T033217
CREATED:20170318T012721Z
LAST-MODIFIED:20170608T045715Z
UID:22021-1497189600-1497189600@www.speedwaya-z.cz
SUMMARY:P ČR jednotlivců – 3. závod – Chabařovice (Memoriál Jiřího Hurycha)
DESCRIPTION:
URL:https://www.speedwaya-z.cz/?tribe_events=p-cr-jednotlivcu-3-zavod-chabarovice-memorial-jiriho-hurycha
LOCATION:Nádražní\, Chabařovice\, 403 17
ORGANIZER;CN="Speedwayclub%20Chaba%C5%99ovice%20v%20A%C4%8CR":MAILTO:jsifaldova(at)seznam.cz
END:VEVENT
END:VCALENDAR