BEGIN:VCALENDAR
VERSION:2.0
PRODID:-//SpeedwayA-Z.cz - ECPv4.6.1//NONSGML v1.0//EN
CALSCALE:GREGORIAN
METHOD:PUBLISH
X-WR-CALNAME:SpeedwayA-Z.cz
X-ORIGINAL-URL:https://www.speedwaya-z.cz
X-WR-CALDESC:Events for SpeedwayA-Z.cz
BEGIN:VEVENT
DTSTART;TZID=Europe/Prague:20170625T150000
DTEND;TZID=Europe/Prague:20170625T150000
DTSTAMP:20260423T080452
CREATED:20170602T025911Z
LAST-MODIFIED:20170614T225236Z
UID:23587-1498402800-1498402800@www.speedwaya-z.cz
SUMMARY:P ČR jednotlivců - 2. závod - Kopřivnice
DESCRIPTION:
URL:https://www.speedwaya-z.cz/?tribe_events=p-cr-jednotlivcu-2-zavod-koprivnice
END:VEVENT
END:VCALENDAR