BEGIN:VCALENDAR
VERSION:2.0
PRODID:-//SpeedwayA-Z.cz - ECPv4.6.1//NONSGML v1.0//EN
CALSCALE:GREGORIAN
METHOD:PUBLISH
X-WR-CALNAME:SpeedwayA-Z.cz
X-ORIGINAL-URL:https://www.speedwaya-z.cz
X-WR-CALDESC:Events for SpeedwayA-Z.cz
BEGIN:VEVENT
DTSTART;TZID=Europe/Prague:20170405T180000
DTEND;TZID=Europe/Prague:20170405T180000
DTSTAMP:20260423T053304
CREATED:20170316T161907Z
LAST-MODIFIED:20170316T161907Z
UID:22002-1491415200-1491415200@www.speedwaya-z.cz
SUMMARY:P ČR jednotlivců – 1. závod – Pardubice
DESCRIPTION:
URL:https://www.speedwaya-z.cz/?tribe_events=p-cr-jednotlivcu-1-zavod-pardubice
LOCATION:Motoristů 300\, Pardubice\, 530 06
ORGANIZER;CN="AMK%20ZP%20Pardubice%20v%20A%C4%8CR":MAILTO:amk.zp(at)wo.cz
END:VEVENT
END:VCALENDAR