BEGIN:VCALENDAR
VERSION:2.0
PRODID:-//SpeedwayA-Z.cz - ECPv4.6.1//NONSGML v1.0//EN
CALSCALE:GREGORIAN
METHOD:PUBLISH
X-WR-CALNAME:SpeedwayA-Z.cz
X-ORIGINAL-URL:https://www.speedwaya-z.cz
X-WR-CALDESC:Events for SpeedwayA-Z.cz
BEGIN:VEVENT
DTSTART;TZID=Europe/Prague:20160903T150000
DTEND;TZID=Europe/Prague:20160903T150000
DTSTAMP:20260423T233541
CREATED:20160113T232916Z
LAST-MODIFIED:20160811T103208Z
UID:14236-1472914800-1472914800@www.speedwaya-z.cz
SUMMARY:P ČR družstev - 1. liga - 4. závod - Svitavy
DESCRIPTION:
URL:https://www.speedwaya-z.cz/?tribe_events=p-cr-druzstev-1-liga-4-zavod-svitavy
LOCATION:Hálkova 7\, Svitavy\, 568 02
ORGANIZER;CN="AMK%20Svitavy%20v%20A%C4%8CR":MAILTO:richardberger(at)seznam.cz
END:VEVENT
END:VCALENDAR