BEGIN:VCALENDAR
VERSION:2.0
PRODID:-//SpeedwayA-Z.cz - ECPv4.6.1//NONSGML v1.0//EN
CALSCALE:GREGORIAN
METHOD:PUBLISH
X-WR-CALNAME:SpeedwayA-Z.cz
X-ORIGINAL-URL:https://www.speedwaya-z.cz
X-WR-CALDESC:Events for SpeedwayA-Z.cz
BEGIN:VEVENT
DTSTART;TZID=Europe/Prague:20180421T150000
DTEND;TZID=Europe/Prague:20180421T150000
DTSTAMP:20260422T105646
CREATED:20180317T190920Z
LAST-MODIFIED:20180322T175619Z
UID:29043-1524322800-1524322800@www.speedwaya-z.cz
SUMMARY:P ČR - Březolupy
DESCRIPTION:
URL:https://www.speedwaya-z.cz/?tribe_events=p-cr-brezolupy
LOCATION:Březolupy\, 687 13
ORGANIZER;CN="AK%20B%C5%99ezolupy%20v%20A%C4%8CR":MAILTO:autoklub(at)brezolupy.cz
END:VEVENT
END:VCALENDAR