BEGIN:VCALENDAR
VERSION:2.0
PRODID:-//SpeedwayA-Z.cz - ECPv4.6.1//NONSGML v1.0//EN
CALSCALE:GREGORIAN
METHOD:PUBLISH
X-WR-CALNAME:SpeedwayA-Z.cz
X-ORIGINAL-URL:https://www.speedwaya-z.cz
X-WR-CALDESC:Events for SpeedwayA-Z.cz
BEGIN:VEVENT
DTSTART;TZID=Europe/Prague:20181117T140000
DTEND;TZID=Europe/Prague:20181117T140000
DTSTAMP:20260422T091034
CREATED:20181107T085852Z
LAST-MODIFIED:20181107T085852Z
UID:34345-1542463200-1542463200@www.speedwaya-z.cz
SUMMARY:náborový trénink - Kostěnice (v případě příznivého počasí)
DESCRIPTION:
URL:https://www.speedwaya-z.cz/?tribe_events=naborovy-trenink-kostenice-v-pripade-prizniveho-pocasi
END:VEVENT
END:VCALENDAR