BEGIN:VCALENDAR
VERSION:2.0
PRODID:-//SpeedwayA-Z.cz - ECPv4.6.1//NONSGML v1.0//EN
CALSCALE:GREGORIAN
METHOD:PUBLISH
X-WR-CALNAME:SpeedwayA-Z.cz
X-ORIGINAL-URL:https://www.speedwaya-z.cz
X-WR-CALDESC:Events for SpeedwayA-Z.cz
BEGIN:VEVENT
DTSTART;TZID=Europe/Prague:20170115T110000
DTEND;TZID=Europe/Prague:20170115T110000
DTSTAMP:20260423T104044
CREATED:20170111T065559Z
LAST-MODIFIED:20170113T072738Z
UID:20811-1484478000-1484478000@www.speedwaya-z.cz
SUMMARY:nábor nových ledařů - Chrastná\, Žabák (!!!ZRUŠENO!!!)
DESCRIPTION:
URL:https://www.speedwaya-z.cz/?tribe_events=nabor-novych-ledaru-chrastna-zabak
END:VEVENT
END:VCALENDAR