BEGIN:VCALENDAR
VERSION:2.0
PRODID:-//SpeedwayA-Z.cz - ECPv4.6.1//NONSGML v1.0//EN
CALSCALE:GREGORIAN
METHOD:PUBLISH
X-WR-CALNAME:SpeedwayA-Z.cz
X-ORIGINAL-URL:https://www.speedwaya-z.cz
X-WR-CALDESC:Events for SpeedwayA-Z.cz
BEGIN:VEVENT
DTSTART;TZID=Europe/Prague:20180508T150000
DTEND;TZID=Europe/Prague:20180508T150000
DTSTAMP:20260422T105535
CREATED:20180317T211209Z
LAST-MODIFIED:20180318T212636Z
UID:29089-1525791600-1525791600@www.speedwaya-z.cz
SUMMARY:MR U21 + U19 - Plzeň
DESCRIPTION:
URL:https://www.speedwaya-z.cz/?tribe_events=mr-u21-u19-plzen
LOCATION:Univerzitní ulice č. 15\, Plzeň\, 30101
ORGANIZER;CN="Autoklub%20Mark%C3%A9ta%20p%C5%99i%20PSK%20Olymp%20Praha":MAILTO:sekretariat@speedway-prague.cz
END:VEVENT
END:VCALENDAR