BEGIN:VCALENDAR
VERSION:2.0
PRODID:-//SpeedwayA-Z.cz - ECPv4.6.1//NONSGML v1.0//EN
CALSCALE:GREGORIAN
METHOD:PUBLISH
X-WR-CALNAME:SpeedwayA-Z.cz
X-ORIGINAL-URL:https://www.speedwaya-z.cz
X-WR-CALDESC:Events for SpeedwayA-Z.cz
BEGIN:VEVENT
DTSTART;TZID=Europe/Prague:20150617T180000
DTEND;TZID=Europe/Prague:20150617T000000
DTSTAMP:20260425T224935
CREATED:20150329T193813Z
LAST-MODIFIED:20150329T193813Z
UID:8854-1434564000-1434499200@www.speedwaya-z.cz
SUMMARY:MR U21 - 3. závod - Pardubice + Cena Jiřího Marxe
DESCRIPTION:
URL:https://www.speedwaya-z.cz/?tribe_events=mr-u21-3-zavod-pardubice-cena-jiriho-marxe
END:VEVENT
END:VCALENDAR