BEGIN:VCALENDAR
VERSION:2.0
PRODID:-//SpeedwayA-Z.cz - ECPv4.6.1//NONSGML v1.0//EN
CALSCALE:GREGORIAN
METHOD:PUBLISH
X-WR-CALNAME:SpeedwayA-Z.cz
X-ORIGINAL-URL:https://www.speedwaya-z.cz
X-WR-CALDESC:Events for SpeedwayA-Z.cz
BEGIN:VEVENT
DTSTART;TZID=Europe/Prague:20190505T140000
DTEND;TZID=Europe/Prague:20190505T140000
DTSTAMP:20260422T022749
CREATED:20190308T064200Z
LAST-MODIFIED:20190308T064200Z
UID:35712-1557064800-1557064800@www.speedwaya-z.cz
SUMMARY:MR U19 + U21 - Plzeň
DESCRIPTION:
URL:https://www.speedwaya-z.cz/?tribe_events=mr-u19-u21-plzen
END:VEVENT
END:VCALENDAR