BEGIN:VCALENDAR
VERSION:2.0
PRODID:-//SpeedwayA-Z.cz - ECPv4.6.1//NONSGML v1.0//EN
CALSCALE:GREGORIAN
METHOD:PUBLISH
X-WR-CALNAME:SpeedwayA-Z.cz
X-ORIGINAL-URL:https://www.speedwaya-z.cz
X-WR-CALDESC:Events for SpeedwayA-Z.cz
BEGIN:VEVENT
DTSTART;TZID=Europe/Prague:20151017T000000
DTEND;TZID=Europe/Prague:20151017T000000
DTSTAMP:20260425T200700
CREATED:20150329T193654Z
LAST-MODIFIED:20151016T075640Z
UID:8875-1445040000-1445040000@www.speedwaya-z.cz
SUMMARY:MR na krátké dráze E85 125 ccm - 6. závod - Divišov (NEJEDE SE)
DESCRIPTION:
URL:https://www.speedwaya-z.cz/?tribe_events=mr-na-kratke-draze-e85-125-ccm-6-zavod-divisov
END:VEVENT
END:VCALENDAR