BEGIN:VCALENDAR
VERSION:2.0
PRODID:-//SpeedwayA-Z.cz - ECPv4.6.1//NONSGML v1.0//EN
CALSCALE:GREGORIAN
METHOD:PUBLISH
X-WR-CALNAME:SpeedwayA-Z.cz
X-ORIGINAL-URL:https://www.speedwaya-z.cz
X-WR-CALDESC:Events for SpeedwayA-Z.cz
BEGIN:VEVENT
DTSTART;TZID=Europe/Prague:20150421T160000
DTEND;TZID=Europe/Prague:20150421T000000
DTSTAMP:20260425T225002
CREATED:20150329T193541Z
LAST-MODIFIED:20150329T193541Z
UID:8870-1429632000-1429574400@www.speedwaya-z.cz
SUMMARY:MR na krátké dráze E85 125 ccm - 1. závod - Praha
DESCRIPTION:
URL:https://www.speedwaya-z.cz/?tribe_events=mr-na-kratke-draze-e85-125-ccm-1-zavod-praha
END:VEVENT
END:VCALENDAR