BEGIN:VCALENDAR
VERSION:2.0
PRODID:-//SpeedwayA-Z.cz - ECPv4.6.1//NONSGML v1.0//EN
CALSCALE:GREGORIAN
METHOD:PUBLISH
X-WR-CALNAME:SpeedwayA-Z.cz
X-ORIGINAL-URL:https://www.speedwaya-z.cz
X-WR-CALDESC:Events for SpeedwayA-Z.cz
BEGIN:VEVENT
DTSTART;TZID=Europe/Prague:20171008T130000
DTEND;TZID=Europe/Prague:20171008T130000
DTSTAMP:20260422T222505
CREATED:20170809T151901Z
LAST-MODIFIED:20171001T091907Z
UID:25176-1507467600-1507467600@www.speedwaya-z.cz
SUMMARY:MR na dlouhé dráze - Kopřivnice
DESCRIPTION:
URL:https://www.speedwaya-z.cz/?tribe_events=mr-na-dlouhe-draze-koprivnice
END:VEVENT
END:VCALENDAR