BEGIN:VCALENDAR
VERSION:2.0
PRODID:-//SpeedwayA-Z.cz - ECPv4.6.1//NONSGML v1.0//EN
CALSCALE:GREGORIAN
METHOD:PUBLISH
X-WR-CALNAME:SpeedwayA-Z.cz
X-ORIGINAL-URL:https://www.speedwaya-z.cz
X-WR-CALDESC:Events for SpeedwayA-Z.cz
BEGIN:VEVENT
DTSTART;TZID=Europe/Prague:20190223T000000
DTEND;TZID=Europe/Prague:20190223T000000
DTSTAMP:20260422T021002
CREATED:20181112T152340Z
LAST-MODIFIED:20190219T091139Z
UID:34420-1550880000-1550880000@www.speedwaya-z.cz
SUMMARY:MR ledy - Opatovice nad Labem (!!!NEJEDE SE!!!)
DESCRIPTION:
URL:https://www.speedwaya-z.cz/?tribe_events=mr-ledy-opatovice-nad-labem-2
END:VEVENT
END:VCALENDAR