BEGIN:VCALENDAR
VERSION:2.0
PRODID:-//SpeedwayA-Z.cz - ECPv4.6.1//NONSGML v1.0//EN
CALSCALE:GREGORIAN
METHOD:PUBLISH
X-WR-CALNAME:SpeedwayA-Z.cz
X-ORIGINAL-URL:https://www.speedwaya-z.cz
X-WR-CALDESC:Events for SpeedwayA-Z.cz
BEGIN:VEVENT
DTSTART;TZID=Europe/Prague:20180310T000000
DTEND;TZID=Europe/Prague:20180310T000000
DTSTAMP:20260422T130031
CREATED:20180226T203059Z
LAST-MODIFIED:20180304T204955Z
UID:28653-1520640000-1520640000@www.speedwaya-z.cz
SUMMARY:MR ledy jednotlivců - Mělice nebo Chrastná místo Opatovic nad Labem (!!! ODVOLÁNO !!!)
DESCRIPTION:
URL:https://www.speedwaya-z.cz/?tribe_events=mr-ledy-jednotlivcu-nebo-druzstev-opatovice-nad-labem
END:VEVENT
END:VCALENDAR