BEGIN:VCALENDAR
VERSION:2.0
PRODID:-//SpeedwayA-Z.cz - ECPv4.6.1//NONSGML v1.0//EN
CALSCALE:GREGORIAN
METHOD:PUBLISH
X-WR-CALNAME:SpeedwayA-Z.cz
X-ORIGINAL-URL:https://www.speedwaya-z.cz
X-WR-CALDESC:Events for SpeedwayA-Z.cz
BEGIN:VEVENT
DTSTART;TZID=Europe/Prague:20180106T000000
DTEND;TZID=Europe/Prague:20180106T000000
DTSTAMP:20260422T185856
CREATED:20171221T213039Z
LAST-MODIFIED:20180103T084801Z
UID:27735-1515196800-1515196800@www.speedwaya-z.cz
SUMMARY:MR ledy družstev - Růžená !!!ZRUŠENO!!!
DESCRIPTION:
URL:https://www.speedwaya-z.cz/?tribe_events=mr-ledy-druzstev-ruzena
END:VEVENT
END:VCALENDAR