BEGIN:VCALENDAR
VERSION:2.0
PRODID:-//SpeedwayA-Z.cz - ECPv4.6.1//NONSGML v1.0//EN
CALSCALE:GREGORIAN
METHOD:PUBLISH
X-WR-CALNAME:SpeedwayA-Z.cz
X-ORIGINAL-URL:https://www.speedwaya-z.cz
X-WR-CALDESC:Events for SpeedwayA-Z.cz
BEGIN:VEVENT
DTSTART;TZID=Europe/Prague:20180127T000000
DTEND;TZID=Europe/Prague:20180127T000000
DTSTAMP:20260422T173754
CREATED:20171221T213115Z
LAST-MODIFIED:20180122T150100Z
UID:27737-1517011200-1517011200@www.speedwaya-z.cz
SUMMARY:MR ledy družstev - Račice (!!! NEJEDE SE !!!)
DESCRIPTION:
URL:https://www.speedwaya-z.cz/?tribe_events=mr-ledy-druzstev-racice
END:VEVENT
END:VCALENDAR