BEGIN:VCALENDAR
VERSION:2.0
PRODID:-//SpeedwayA-Z.cz - ECPv4.6.1//NONSGML v1.0//EN
CALSCALE:GREGORIAN
METHOD:PUBLISH
X-WR-CALNAME:SpeedwayA-Z.cz
X-ORIGINAL-URL:https://www.speedwaya-z.cz
X-WR-CALDESC:Events for SpeedwayA-Z.cz
BEGIN:VEVENT
DTSTART;TZID=Europe/Prague:20190224T000000
DTEND;TZID=Europe/Prague:20190224T000000
DTSTAMP:20260422T054159
CREATED:20181112T152610Z
LAST-MODIFIED:20190219T091218Z
UID:34428-1550966400-1550966400@www.speedwaya-z.cz
SUMMARY:MR ledy družstev - Chrastná (!!!NEJEDE SE!!!)
DESCRIPTION:
URL:https://www.speedwaya-z.cz/?tribe_events=mr-ledy-druzstev-chrastna-2
END:VEVENT
END:VCALENDAR