BEGIN:VCALENDAR
VERSION:2.0
PRODID:-//SpeedwayA-Z.cz - ECPv4.6.1//NONSGML v1.0//EN
CALSCALE:GREGORIAN
METHOD:PUBLISH
X-WR-CALNAME:SpeedwayA-Z.cz
X-ORIGINAL-URL:https://www.speedwaya-z.cz
X-WR-CALDESC:Events for SpeedwayA-Z.cz
BEGIN:VEVENT
DTSTART;TZID=Europe/Prague:20170122T130000
DTEND;TZID=Europe/Prague:20170122T130000
DTSTAMP:20260423T104019
CREATED:20161124T082937Z
LAST-MODIFIED:20170117T214141Z
UID:20253-1485090000-1485090000@www.speedwaya-z.cz
SUMMARY:MR ledy - 2. závod - Kopřivnice
DESCRIPTION:
URL:https://www.speedwaya-z.cz/?tribe_events=mr-ledy-druzstev-3-zavod-koprivnice
END:VEVENT
END:VCALENDAR